{
 "currentVersion": 10.91,
 "serviceDescription": "awra_projections/percentile_decade_crf_rcp85_all_data",
 "name": "awra_projections/percentile_decade_crf_rcp85_all_data",
 "description": "",
 "extent": {
  "xmin": 111.975,
  "ymin": -44.025000000000006,
  "xmax": 154.025,
  "ymax": -9.975,
  "spatialReference": {
   "wkid": 4326,
   "latestWkid": 4326
  }
 },
 "initialExtent": {
  "xmin": 111.975,
  "ymin": -44.025000000000006,
  "xmax": 154.025,
  "ymax": -9.975,
  "spatialReference": {
   "wkid": 4326,
   "latestWkid": 4326
  }
 },
 "fullExtent": {
  "xmin": 111.975,
  "ymin": -44.025000000000006,
  "xmax": 154.025,
  "ymax": -9.975,
  "spatialReference": {
   "wkid": 4326,
   "latestWkid": 4326
  }
 },
 "hasMultidimensions": true,
 "timeInfo": {
  "startTimeField": "StdTime",
  "endTimeField": "StdTime",
  "timeExtent": [
   1893456000000,
   3629145600000
  ],
  "timeReference": null,
  "defaultTimeInterval": 5479,
  "defaultTimeIntervalUnits": "esriTimeUnitsDays"
 },
 "pixelSizeX": 0.05000000000000002,
 "pixelSizeY": 0.05000000000000001,
 "datasetFormat": "Cache/LERC2D",
 "uncompressedSize": 2290884,
 "blockWidth": 256,
 "blockHeight": 256,
 "compressionType": "LERC2D",
 "bandNames": [
  "Band_1"
 ],
 "allowCopy": false,
 "allowAnalysis": true,
 "defaultVariable": "",
 "bandCount": 1,
 "noDataValue": 3.4E38,
 "noDataValues": [
  3.4E38
 ],
 "pixelType": "F32",
 "minPixelSize": 0,
 "maxPixelSize": 0,
 "copyrightText": "",
 "serviceDataType": "esriImageServiceDataTypeScientific",
 "serviceSourceType": "esriImageServiceSourceTypeDataset",
 "minValues": [
  -0.4653162658214569
 ],
 "maxValues": [
  22.521879196166992
 ],
 "meanValues": [
  6.368956855469058
 ],
 "stdvValues": [
  3.23757999071666
 ],
 "objectIdField": "",
 "fields": [],
 "capabilities": "Mensuration,Image,Metadata",
 "defaultMosaicMethod": "Center",
 "allowedMosaicMethods": "",
 "sortField": "",
 "sortValue": null,
 "sortAscending": true,
 "mosaicOperator": "First",
 "defaultCompressionQuality": 10000,
 "defaultResamplingMethod": "Bilinear",
 "maxImageHeight": 5000,
 "maxImageWidth": 5000,
 "allowRasterFunction": true,
 "rasterFunctionInfos": [
  {
   "name": "prj_relative",
   "description": "A raster function table that categorises relative change into 11 categories. Values are for a percenteage of change from median and values are valid between -100% and + infinity%",
   "help": "\n "
  },
  {
   "name": "prj_relative",
   "description": "A raster function table that categorises relative change into 11 categories. Values are for a percenteage of change from median and values are valid between -100% and + infinity%",
   "help": "\n "
  },
  {
   "name": "prj_relative_qtot",
   "description": "A raster function table that categorises relative change for the variable qtot into 11 categories. Values are for a percenteage of change from median and values are valid between -100% and + infinity%",
   "help": "\n "
  },
  {
   "name": "None",
   "description": "",
   "help": ""
  }
 ],
 "rasterTypeInfos": [
  {
   "name": "Raster Dataset",
   "description": "Supports all ArcGIS Raster Datasets",
   "help": ""
  }
 ],
 "mensurationCapabilities": "Basic",
 "hasHistograms": true,
 "hasColormap": false,
 "hasRasterAttributeTable": false,
 "minScale": 0,
 "maxScale": 0,
 "exportTilesAllowed": false,
 "supportsStatistics": false,
 "supportsAdvancedQueries": false,
 "editFieldsInfo": null,
 "ownershipBasedAccessControlForRasters": null,
 "allowComputeTiePoints": false,
 "useStandardizedQueries": true,
 "advancedQueryCapabilities": {
  "useStandardizedQueries": true,
  "supportsStatistics": false,
  "supportsOrderBy": false,
  "supportsDistinct": false,
  "supportsPagination": false
 },
 "spatialReference": {
  "wkid": 4326,
  "latestWkid": 4326
 }
}
