{
 "currentVersion": 10.91,
 "serviceDescription": "awra_seasonal/physical_month_crf_multivariable_all_data",
 "name": "awra_seasonal/physical_month_crf_multivariable_all_data",
 "description": "",
 "extent": {
  "xmin": 111.975,
  "ymin": -44.02499999999806,
  "xmax": 154.0249999999976,
  "ymax": -9.975,
  "spatialReference": {
   "wkid": 4326,
   "latestWkid": 4326
  }
 },
 "initialExtent": {
  "xmin": 111.975,
  "ymin": -44.02499999999806,
  "xmax": 154.0249999999976,
  "ymax": -9.975,
  "spatialReference": {
   "wkid": 4326,
   "latestWkid": 4326
  }
 },
 "fullExtent": {
  "xmin": 111.975,
  "ymin": -44.02499999999806,
  "xmax": 154.0249999999976,
  "ymax": -9.975,
  "spatialReference": {
   "wkid": 4326,
   "latestWkid": 4326
  }
 },
 "hasMultidimensions": true,
 "timeInfo": {
  "startTimeField": "StdTime",
  "endTimeField": "StdTime",
  "timeExtent": [
   1774915200000,
   1780185600000
  ],
  "timeReference": null,
  "defaultTimeInterval": 30,
  "defaultTimeIntervalUnits": "esriTimeUnitsDays"
 },
 "pixelSizeX": 0.049999999999997144,
 "pixelSizeY": 0.049999999999997144,
 "datasetFormat": "Cache/LERC2D",
 "uncompressedSize": 2290884,
 "blockWidth": 256,
 "blockHeight": 256,
 "compressionType": "LERC2D",
 "bandNames": [
  "Band_1"
 ],
 "allowCopy": false,
 "allowAnalysis": true,
 "defaultVariable": "",
 "bandCount": 1,
 "noDataValue": -999,
 "noDataValues": [
  -999
 ],
 "pixelType": "F32",
 "minPixelSize": 0,
 "maxPixelSize": 0,
 "copyrightText": "",
 "serviceDataType": "esriImageServiceDataTypeScientific",
 "serviceSourceType": "esriImageServiceSourceTypeDataset",
 "minValues": [
  0
 ],
 "maxValues": [
  2110.4619140625
 ],
 "meanValues": [
  50.0840502082556
 ],
 "stdvValues": [
  66.68117371029933
 ],
 "objectIdField": "",
 "fields": [],
 "capabilities": "Mensuration,Image,Metadata",
 "defaultMosaicMethod": "Center",
 "allowedMosaicMethods": "",
 "sortField": "",
 "sortValue": null,
 "sortAscending": true,
 "mosaicOperator": "First",
 "defaultCompressionQuality": 10000,
 "defaultResamplingMethod": "Bilinear",
 "maxImageHeight": 5000,
 "maxImageWidth": 5000,
 "allowRasterFunction": true,
 "rasterFunctionInfos": [
  {
   "name": "None",
   "description": "Make a Raster or Raster Dataset into a Function Raster Dataset.",
   "help": ""
  },
  {
   "name": "smpfull",
   "description": "A raster function table that categorises soil moisture in percent sull to 10 categories and colours based on corporate colours for measurements in percentages.",
   "help": "\n "
  },
  {
   "name": "e0_month",
   "description": "A raster function table that categorises evaporation in mm to 10 categories and colours based on corporate colours for measurements in mm for monthly data.",
   "help": "\n "
  },
  {
   "name": "etot_month",
   "description": "A raster function table that categorises modelled total evaporation in mm to 10 categories and colours based on corporate colours for measurements in mm for monthly data.",
   "help": "\n "
  },
  {
   "name": "qtot_month",
   "description": "A raster function table that categorises runoff in mm to 10 categories and colours based on corporate colours for measurements in mm for monthly data.",
   "help": "\n "
  },
  {
   "name": "dd_month",
   "description": "A raster function table that categorises deep drainage in mm to 10 categories and colours based on corporate colours for measurements in mm for monthly data.",
   "help": "\n "
  },
  {
   "name": "precip_month",
   "description": "A raster function table that categorises precipitation in mm to 10 categories and colours based on corporate colours for measurements in mm for monthly data.",
   "help": "\n "
  }
 ],
 "rasterTypeInfos": [
  {
   "name": "Raster Dataset",
   "description": "Supports all ArcGIS Raster Datasets",
   "help": ""
  }
 ],
 "mensurationCapabilities": "Basic",
 "hasHistograms": true,
 "hasColormap": false,
 "hasRasterAttributeTable": false,
 "minScale": 0,
 "maxScale": 0,
 "exportTilesAllowed": false,
 "supportsStatistics": false,
 "supportsAdvancedQueries": false,
 "editFieldsInfo": null,
 "ownershipBasedAccessControlForRasters": null,
 "allowComputeTiePoints": false,
 "useStandardizedQueries": true,
 "advancedQueryCapabilities": {
  "useStandardizedQueries": true,
  "supportsStatistics": false,
  "supportsOrderBy": false,
  "supportsDistinct": false,
  "supportsPagination": false
 },
 "spatialReference": {
  "wkid": 4326,
  "latestWkid": 4326
 }
}
