View In:
ArcGIS JavaScript
ArcGIS Online Map Viewer
ArcGIS Earth
ArcMap
View Footprint In:
ArcGIS Online Map Viewer
Service Description: awra_historical/percentile_interval_year_point_multivariable_all_data
Name: awra_historical/percentile_interval_year_point_multivariable_all_data
Description:
Single Fused Map Cache: false
Extent:
XMin: 111.975
YMin: -44.025000000000006
XMax: 154.025
YMax: -9.975
Spatial Reference: 4326
(4326)
Initial Extent:
XMin: 111.975
YMin: -44.025000000000006
XMax: 154.025
YMax: -9.975
Spatial Reference: 4326
(4326)
Full Extent:
XMin: 111.975
YMin: -44.025000000000006
XMax: 154.025
YMax: -9.975
Spatial Reference: 4326
(4326)
Pixel Size X: 0.05000000000000002
Pixel Size Y: 0.05000000000000001
Band Count: 1
Pixel Type: F32
RasterFunction Infos: {"rasterFunctionInfos": [
{
"name": "None",
"description": "Make a Raster or Raster Dataset into a Function Raster Dataset.",
"help": ""
},
{
"name": "dd",
"description": "A raster function template.",
"help": ""
},
{
"name": "e0",
"description": "A raster function template.",
"help": ""
},
{
"name": "etot",
"description": "A raster function template.",
"help": ""
},
{
"name": "qtot",
"description": "A raster function template.",
"help": ""
},
{
"name": "rain_day",
"description": "A raster function template.",
"help": ""
},
{
"name": "s0_pct",
"description": "A raster function template.",
"help": ""
},
{
"name": "sd_pct",
"description": "A raster function template.",
"help": ""
},
{
"name": "sm_pct",
"description": "A raster function template.",
"help": ""
},
{
"name": "ss_pct",
"description": "A raster function template.",
"help": ""
}
]}
Mensuration Capabilities: None
Has Histograms: false
Has Colormap: false
Has Multi Dimensions : true
Rendering Rule:
Min Scale: 0
Max Scale: 0
Copyright Text:
Service Data Type: esriImageServiceDataTypeScientific
Min Values: N/A
Max Values: N/A
Mean Values: N/A
Standard Deviation Values: N/A
Object ID Field: objectid
Fields:
-
objectid
(
type: esriFieldTypeOID, alias: objectid
)
-
name
(
type: esriFieldTypeString, alias: name, length: 200
)
-
minps
(
type: esriFieldTypeDouble, alias: minps
)
-
maxps
(
type: esriFieldTypeDouble, alias: maxps
)
-
lowps
(
type: esriFieldTypeDouble, alias: lowps
)
-
highps
(
type: esriFieldTypeDouble, alias: highps
)
-
category
(
type: esriFieldTypeInteger, alias: category
, Coded Values:
[0: Unknown]
, [1: Primary]
, [2: Overview]
, ...6 more...
)
-
tag
(
type: esriFieldTypeString, alias: tag, length: 100
)
-
groupname
(
type: esriFieldTypeString, alias: groupname, length: 100
)
-
productname
(
type: esriFieldTypeString, alias: productname, length: 100
)
-
centerx
(
type: esriFieldTypeDouble, alias: centerx
)
-
centery
(
type: esriFieldTypeDouble, alias: centery
)
-
zorder
(
type: esriFieldTypeInteger, alias: zorder
)
-
shape
(
type: esriFieldTypeGeometry, alias: shape
)
-
variable
(
type: esriFieldTypeString, alias: Variable, length: 50
)
-
dimensions
(
type: esriFieldTypeString, alias: Dimensions, length: 50
)
-
percentile
(
type: esriFieldTypeDouble, alias: percentile
)
-
type
(
type: esriFieldTypeInteger, alias: Type
)
-
day
(
type: esriFieldTypeInteger, alias: Day
)
-
month
(
type: esriFieldTypeInteger, alias: Month
)
-
year
(
type: esriFieldTypeInteger, alias: Year
)
-
st_area(shape)
(
type: esriFieldTypeDouble, alias: st_area(shape)
)
-
st_perimeter(shape)
(
type: esriFieldTypeDouble, alias: st_perimeter(shape)
)
Default Mosaic Method: None
Allowed Mosaic Methods: None,NorthWest,Center,LockRaster,ByAttribute,Nadir,Viewpoint,Seamline
SortField: N/A
SortValue: N/A
Mosaic Operator: First
Default Compression Quality: 10000
Default Resampling Method: Bilinear
Max Record Count: 1000
Max Image Height: 4100
Max Image Width: 5000
Max Download Image Count: 20
Max Mosaic Image Count: 20
Allow Raster Function: true
Allow Copy: false
Allow Analysis: false
Allow Compute TiePoints: false
Supports Statistics: true
Supports Advanced Queries: true
Use StandardizedQueries: true
Raster Type Infos:
Name: Raster Dataset
Description: Supports all ArcGIS Raster Datasets
Help:
Has Raster Attribute Table: false
Edit Fields Info: null
Ownership Based AccessControl For Rasters: null
Child Resources:
Info
Statistics
Key Properties
Legend
Raster Function Infos
Multidimensional Info
Slices
Supported Operations:
Export Image
Query
Identify
Compute Histograms
Compute Statistics Histograms
Get Samples
Compute Class Statistics
Query Boundary
Compute Pixel Location
Compute Angles
Validate
Project