View In:
ArcGIS JavaScript
ArcGIS Online Map Viewer
ArcGIS Earth
ArcMap
View Footprint In:
ArcGIS Online Map Viewer
Service Description: awra_historical/physical_day_mosaic_multivariable_archive_1985_2004_data
Name: awra_historical/physical_day_mosaic_multivariable_archive_1985_2004_data
Description:
Single Fused Map Cache: false
Extent:
XMin: 111.975
YMin: -44.025000000000006
XMax: 154.025
YMax: -9.975
Spatial Reference: 4326
(4326)
Initial Extent:
XMin: 111.975
YMin: -44.025000000000006
XMax: 154.025
YMax: -9.975
Spatial Reference: 4326
(4326)
Full Extent:
XMin: 111.975
YMin: -44.025000000000006
XMax: 154.025
YMax: -9.975
Spatial Reference: 4326
(4326)
Time Info:
Start Time Field: StdTime
End Time Field: StdTime
Time Extent:
[1985/01/01 00:00:00 UTC, 2004/12/31 00:00:00 UTC]
Time Reference:
N/A
Pixel Size X: 0.05000000000000002
Pixel Size Y: 0.05000000000000001
Band Count: 1
Pixel Type: F32
RasterFunction Infos: {"rasterFunctionInfos": [
{
"name": "None",
"description": "Make a Raster or Raster Dataset into a Function Raster Dataset.",
"help": ""
},
{
"name": "dd",
"description": "A raster function template.",
"help": ""
},
{
"name": "e0",
"description": "A raster function template.",
"help": ""
},
{
"name": "etot",
"description": "A raster function template.",
"help": ""
},
{
"name": "qtot",
"description": "A raster function template.",
"help": ""
},
{
"name": "rain_day",
"description": "A raster function template.",
"help": ""
},
{
"name": "s0_pct",
"description": "A raster function template.",
"help": ""
},
{
"name": "sd_pct",
"description": "A raster function template.",
"help": ""
},
{
"name": "sm_pct",
"description": "A raster function template.",
"help": ""
},
{
"name": "ss_pct",
"description": "A raster function template.",
"help": ""
}
]}
Mensuration Capabilities: None
Has Histograms: false
Has Colormap: false
Has Multi Dimensions : true
Rendering Rule:
Min Scale: 0
Max Scale: 0
Copyright Text:
Service Data Type: esriImageServiceDataTypeScientific
Min Values: N/A
Max Values: N/A
Mean Values: N/A
Standard Deviation Values: N/A
Object ID Field: OBJECTID
Fields:
-
OBJECTID
(
type: esriFieldTypeOID, alias: OBJECTID
)
-
Shape
(
type: esriFieldTypeGeometry, alias: Shape
)
-
Name
(
type: esriFieldTypeString, alias: Name, length: 200
)
-
MinPS
(
type: esriFieldTypeDouble, alias: MinPS
)
-
MaxPS
(
type: esriFieldTypeDouble, alias: MaxPS
)
-
LowPS
(
type: esriFieldTypeDouble, alias: LowPS
)
-
HighPS
(
type: esriFieldTypeDouble, alias: HighPS
)
-
Category
(
type: esriFieldTypeInteger, alias: Category
, Coded Values:
[0: Unknown]
, [1: Primary]
, [2: Overview]
, ...6 more...
)
-
Tag
(
type: esriFieldTypeString, alias: Tag, length: 100
)
-
Variable
(
type: esriFieldTypeString, alias: Variable, length: 50
)
-
Dimensions
(
type: esriFieldTypeString, alias: Dimensions, length: 50
)
-
StdTime
(
type: esriFieldTypeDate, alias: Standard Time, length: 8
)
Default Mosaic Method: ByAttribute
Allowed Mosaic Methods: ByAttribute,LockRaster,None
SortField: StdTime
SortValue: 12/12/2050
Mosaic Operator: First
Default Compression Quality: 10000
Default Resampling Method: Bilinear
Max Record Count: 500
Max Image Height: 5000
Max Image Width: 5000
Max Download Image Count: 20
Max Mosaic Image Count: 1
Allow Raster Function: true
Allow Copy: true
Allow Analysis: true
Allow Compute TiePoints: false
Supports Statistics: true
Supports Advanced Queries: true
Use StandardizedQueries: true
Raster Type Infos:
Name: Raster Dataset
Description: Supports all ArcGIS Raster Datasets
Help:
Has Raster Attribute Table: false
Edit Fields Info: null
Ownership Based AccessControl For Rasters: null
Child Resources:
Info
Statistics
Key Properties
Legend
Raster Function Infos
Multidimensional Info
Slices
Supported Operations:
Export Image
Query
Identify
Compute Histograms
Compute Statistics Histograms
Get Samples
Compute Class Statistics
Query Boundary
Compute Pixel Location
Compute Angles
Validate
Project