View In:
  ArcGIS JavaScript
  ArcGIS Online Map Viewer
  ArcGIS Earth
  ArcMap
View Footprint In:
  ArcGIS Online Map Viewer
Service Description:  awra_projections/physical_decade_crf_rcp85_all_data
Name:  awra_projections/physical_decade_crf_rcp85_all_data
Description:  
Single Fused Map Cache:  false
Extent: 
XMin: 111.975
YMin: -44.025000000000006
XMax: 154.025
YMax: -9.975
Spatial Reference: 4326
 (4326)
Initial Extent:
XMin: 111.975
YMin: -44.025000000000006
XMax: 154.025
YMax: -9.975
Spatial Reference: 4326
 (4326)
Full Extent:
XMin: 111.975
YMin: -44.025000000000006
XMax: 154.025
YMax: -9.975
Spatial Reference: 4326
 (4326)
Time Info:
Start Time Field: StdTime
End Time Field: StdTime
Time Extent:
[2030/01/01 00:00:00 UTC, 2085/01/01 00:00:00 UTC]
Time Reference:
N/A
Pixel Size X: 0.05000000000000002
Pixel Size Y:  0.05000000000000001
Band Count: 1
Pixel Type: F32
RasterFunction Infos:  {"rasterFunctionInfos": [
 {
  "name": "None",
  "description": "Make a Raster or Raster Dataset into a Function Raster Dataset.",
  "help": ""
 },
 {
  "name": "awra_prj_abs_pr_year",
  "description": "A raster function table that categorises absolute change of pr to 11 classes",
  "help": "\n  "
 },
 {
  "name": "awra_prj_abs_pr_wetdry",
  "description": "A raster function table that categorises absolute change of pr to 11 classes",
  "help": "\n  "
 },
 {
  "name": "awra_prj_abs_pr_season",
  "description": "A raster function table that categorises absolute change of pr to 11 classes",
  "help": "\n  "
 },
 {
  "name": "awra_prj_abs_etot_year",
  "description": "A raster function table that categorises absolute change of etot to 11 classes",
  "help": "\n  "
 },
 {
  "name": "awra_prj_abs_etot_wetdry",
  "description": "A raster function table that categorises absolute change of etot to 11 classes",
  "help": "\n  "
 },
 {
  "name": "awra_prj_abs_etot_season",
  "description": "A raster function table that categorises absolute change of etot to 11 classes",
  "help": "\n  "
 },
 {
  "name": "awra_prj_abs_qtot_year",
  "description": "A raster function table that categorises absolute change of qtot to 11 classes",
  "help": "\n  "
 },
 {
  "name": "awra_prj_abs_qtot_wetdry",
  "description": "A raster function table that categorises absolute change of etot to 11 classes",
  "help": "\n  "
 },
 {
  "name": "awra_prj_abs_qtot_season",
  "description": "A raster function table that categorises absolute change of etot to 11 classes",
  "help": "\n  "
 },
 {
  "name": "awra_prj_abs_sm_pct",
  "description": "A raster function table that categorises absolute change of sm_pct to 11 classes",
  "help": "\n  "
 },
 {
  "name": "awra_prj_abs_e0_year",
  "description": "A raster function table that categorises absolute change of e0 to 11 classes",
  "help": "\n  "
 },
 {
  "name": "awra_prj_abs_e0_wetdry",
  "description": "A raster function table that categorises absolute change of e0 to 11 classes",
  "help": "\n  "
 },
 {
  "name": "awra_prj_abs_e0_season",
  "description": "A raster function table that categorises absolute change of e0 to 11 classes",
  "help": "\n  "
 }
]}
Mensuration Capabilities: Basic
Has Histograms:  true
Has Colormap:  false
Has Multi Dimensions :  true
Rendering Rule: 
Min Scale:  0
Max Scale:  0
Copyright Text:  
Service Data Type:  esriImageServiceDataTypeScientific
Min Values:  -3.060464382171631
Max Values:  246.45346069335938
Mean Values:  51.16838743262505
Standard Deviation Values:  42.30664164542762
Object ID Field:  
Fields: 
None
Default Mosaic Method:  Center
Allowed Mosaic Methods:  
SortField:  
SortValue:  null
Mosaic Operator:  First
Default Compression Quality:  10000
Default Resampling Method:  Bilinear
Max Record Count:  null
Max Image Height:  5000
Max Image Width:  5000
Max Download Image Count:  null
Max Mosaic Image Count:  null
Allow Raster Function:  true
Allow Copy:  false
Allow Analysis:  true
Allow Compute TiePoints:  false
Supports Statistics:  false
Supports Advanced Queries:  false
Use StandardizedQueries:  true
Raster Type Infos: 
Name: Raster Dataset
Description: Supports all ArcGIS Raster Datasets
Help: 
Has Raster Attribute Table: false
Edit Fields Info:  null
Ownership Based AccessControl For Rasters:  null
Child Resources:
  
Info
  Histograms
  Statistics
  Key Properties
  Legend
  Raster Function Infos
  Multidimensional Info
  Slices
Supported Operations:
  
Export Image
  Identify
  Add Rasters
  Update Raster
  Delete Rasters
  Measure
  Compute Histograms
  Compute Statistics Histograms
  Get Samples
  Compute Class Statistics
  Query Boundary
  Compute Pixel Location
  Compute Angles
  Validate
  Project