View In:
ArcGIS JavaScript
ArcGIS Online Map Viewer
ArcGIS Earth
ArcMap
View Footprint In:
ArcGIS Online Map Viewer
Service Description: awra_seasonal/physical_skill_month_crf_multivariable_all_data
Name: awra_seasonal/physical_skill_month_crf_multivariable_all_data
Description:
Single Fused Map Cache: false
Extent:
XMin: 111.975
YMin: -44.02499999999806
XMax: 154.0249999999976
YMax: -9.975
Spatial Reference: 4326
(4326)
Initial Extent:
XMin: 111.975
YMin: -44.02499999999806
XMax: 154.0249999999976
YMax: -9.975
Spatial Reference: 4326
(4326)
Full Extent:
XMin: 111.975
YMin: -44.02499999999806
XMax: 154.0249999999976
YMax: -9.975
Spatial Reference: 4326
(4326)
Time Info:
Start Time Field: StdTime
End Time Field: StdTime
Time Extent:
[1900/01/01 00:00:00 UTC, 1901/02/01 00:00:00 UTC]
Time Reference:
N/A
Pixel Size X: 0.049999999999997144
Pixel Size Y: 0.049999999999997144
Band Count: 1
Pixel Type: F32
RasterFunction Infos: {"rasterFunctionInfos": [
{
"name": "None",
"description": "Make a Raster or Raster Dataset into a Function Raster Dataset.",
"help": ""
},
{
"name": "awra_skill",
"description": "A raster function table that categorises forecast skill to the climate outlook colours",
"help": "\n "
}
]}
Mensuration Capabilities: Basic
Has Histograms: true
Has Colormap: false
Has Multi Dimensions : true
Rendering Rule:
Min Scale: 0
Max Scale: 0
Copyright Text:
Service Data Type: esriImageServiceDataTypeScientific
Min Values: -1
Max Values: 0.98828125
Mean Values: 0.31878677882861295
Standard Deviation Values: 0.30196701972323015
Object ID Field:
Fields:
None
Default Mosaic Method: Center
Allowed Mosaic Methods:
SortField:
SortValue: null
Mosaic Operator: First
Default Compression Quality: 10000
Default Resampling Method: Bilinear
Max Record Count: null
Max Image Height: 5000
Max Image Width: 5000
Max Download Image Count: null
Max Mosaic Image Count: null
Allow Raster Function: true
Allow Copy: false
Allow Analysis: false
Allow Compute TiePoints: false
Supports Statistics: false
Supports Advanced Queries: false
Use StandardizedQueries: true
Raster Type Infos:
Name: Raster Dataset
Description: Supports all ArcGIS Raster Datasets
Help:
Has Raster Attribute Table: false
Edit Fields Info: null
Ownership Based AccessControl For Rasters: null
Child Resources:
Info
Histograms
Statistics
Key Properties
Legend
Raster Function Infos
Multidimensional Info
Slices
Supported Operations:
Export Image
Identify
Measure
Compute Histograms
Compute Statistics Histograms
Get Samples
Compute Class Statistics
Query Boundary
Compute Pixel Location
Compute Angles
Validate
Project